BEGIN:VCALENDAR
VERSION:2.0
PRODID:-//wp-events-plugin.com//7.2.3.1//EN
TZID:America/New_York
X-WR-TIMEZONE:America/New_York
BEGIN:VEVENT
UID:81@tinr.org
DTSTART;TZID=America/New_York;VALUE=DATE:20200801
DTEND;TZID=America/New_York;VALUE=DATE:20200901
DTSTAMP:20200812T200028Z
URL:https://www.tinr.org/events/tinr-oral-history-project/
SUMMARY:Temple Israel's Oral History Project - Still On-Going\, Join Us!
DESCRIPTION:Tell Your Story!\nOne of the oldest human (and Jewish) traditio
 ns is story-telling. Now at Temple Israel\, we are continuing a project to
  collect our stories.\n\nTemple Israel is a congregation of hundreds of fa
 milies\, each with its own stories. Some of those stories took place in ou
 r building\, or in the Webster building\, or perhaps in one of the even ea
 rlier buildings downtown. We are looking for people who want to share thei
 r stories of Temple Israel\, and for volunteers to help us collect them. W
 e will be recording interviews with willing subjects at the Temple or anot
 her convenient location. The recordings will be archived at the Temple\, w
 here they can be viewed. We plan to develop the means for the interviews t
 o be viewed remotely\, so that stories can be shared with people who are n
 ot nearby.\n\nIf you are interested in interviewing or being interviewed\,
  contact Warren Agatston or Stan Konwiser to volunteer. Mia Egelberg sched
 ules the sessions.\n\n\nA special thank you to Brotherhood and Sisterhood\
 , Todd Pekats\, Val Etra\, Mitch Benson\, and Warren &amp\; Janice Agatsto
 n for underwriting the cost of the recording equipment for this project!\n
 \n&nbsp\;\n\n[embedyt] https://www.youtube.com/watch?v=zyKaXrOOcUI[/embedy
 t]
ATTACH;FMTTYPE=image/jpeg:https://www.tinr.org/wp-content/uploads/2020/07/
 tell-your-story-website-event-image.jpg
CATEGORIES:Highlights
END:VEVENT
BEGIN:VTIMEZONE
TZID:America/New_York
X-LIC-LOCATION:America/New_York
BEGIN:DAYLIGHT
DTSTART:20200308T030000
TZOFFSETFROM:-0500
TZOFFSETTO:-0400
TZNAME:EDT
END:DAYLIGHT
END:VTIMEZONE
END:VCALENDAR