BEGIN:VCALENDAR
VERSION:2.0
PRODID:-//wp-events-plugin.com//7.2.3.1//EN
TZID:America/New_York
X-WR-TIMEZONE:America/New_York
BEGIN:VEVENT
UID:347@tinr.org
DTSTART;TZID=America/New_York:20260606T183000
DTEND;TZID=America/New_York:20260606T223000
DTSTAMP:20260401T144834Z
URL:https://www.tinr.org/events/spring-fundraiser/
SUMMARY:Cirque du Community Spring Fundraiser
DESCRIPTION:Step right up for our Cirque du Community Spring Fundraiser on 
 Saturday\, June 6th\, from 6:30 PM to 10:30 PM. Prepare to be dazzled as y
 ou enter a world featuring stilt walkers and wandering jugglers\, followed
  by a high-energy dinner show with incredible circus performers.\n\nJoin u
 s for an interactive circus experience paired with carnival games\, delici
 ous food\, and fun opportunities to support YOUR Temple Israel Community.\
 n\nDress casually for a great time! Details are being finalized\; expect a
 n invite to your inbox soon!
ATTACH;FMTTYPE=image/jpeg:https://www.tinr.org/wp-content/uploads/2026/04/
 Spring-Fundraiser-2026-EVENT.png
CATEGORIES:Highlights
END:VEVENT
BEGIN:VTIMEZONE
TZID:America/New_York
X-LIC-LOCATION:America/New_York
BEGIN:DAYLIGHT
DTSTART:20260308T030000
TZOFFSETFROM:-0500
TZOFFSETTO:-0400
TZNAME:EDT
END:DAYLIGHT
END:VTIMEZONE
END:VCALENDAR