BEGIN:VCALENDAR
VERSION:2.0
PRODID:-//wp-events-plugin.com//7.2.3.1//EN
TZID:America/New_York
X-WR-TIMEZONE:America/New_York
BEGIN:VEVENT
UID:192@tinr.org
DTSTART;TZID=America/New_York:20260506T184500
DTEND;TZID=America/New_York:20260506T210000
DTSTAMP:20260410T181324Z
URL:https://www.tinr.org/events/sisterhood-game-night/
SUMMARY:Sisterhood Game Nights
DESCRIPTION:Wednesday\, May 6th\, 6:45 - 9pm\n\nCanasta or Mah Jongg … yo
 ur choice. Play with old friends\, and new! Invite a friend!\n\nAttending
  this event is FREE for Sisterhood Members. $5/player for guests will be c
 ollected at the door. EVERYONE IS WELCOME! Please RSVP\, even if you come 
 to every Game Night\, so Sisterhood can account for seating and food!\n\nI
 f you have a Mah Jongg set\, please remember to bring it with you. Canasta
  players are welcome to join but please arrange your game\, cards\, and pl
 ayers in advance.\n\nPLEASE RSVP! so Sisterhood can account for seating an
 d snacks.\n\nWant to become a Sisterhood member? Contact Sisterhood\n
ATTACH;FMTTYPE=image/jpeg:https://www.tinr.org/wp-content/uploads/2023/01/
 Sisterhood-Game-Night-Canasta-and-Mah-Jongg-Wednesday-November-30-2022-MON
 THLY-EVENT.jpg
CATEGORIES:Highlights
END:VEVENT
BEGIN:VTIMEZONE
TZID:America/New_York
X-LIC-LOCATION:America/New_York
BEGIN:DAYLIGHT
DTSTART:20260308T030000
TZOFFSETFROM:-0500
TZOFFSETTO:-0400
TZNAME:EDT
END:DAYLIGHT
END:VTIMEZONE
END:VCALENDAR