BEGIN:VCALENDAR
VERSION:2.0
PRODID:-//wp-events-plugin.com//7.2.3.1//EN
TZID:America/New_York
X-WR-TIMEZONE:America/New_York
BEGIN:VEVENT
UID:348@tinr.org
DTSTART;TZID=America/New_York:20260513T183000
DTEND;TZID=America/New_York:20260513T210000
DTSTAMP:20260401T190903Z
URL:https://www.tinr.org/events/sisterhood-baking-event-rugelach-mandel-br
 ead/
SUMMARY:Sisterhood Baking Event - Rugelach & Mandel Bread
DESCRIPTION:Roll up your sleeves!\nLearn to bake Rugelach and Mandel Bread 
 ... with Sue Bernstein\nWednesday May 13th\, 6:30 - 9 pm\n\nEach participa
 nt will take home recipes\, baked goods and dough to make more at home.\n$
 18 per person. Light refreshments will be served.\n\nClick here to RSVP!\n
 Space is Limited! Maximum 15 people.\n\nQuestions? Greta Berenbaum\, Coord
 inator
ATTACH;FMTTYPE=image/jpeg:https://www.tinr.org/wp-content/uploads/2026/04/
 Sisterhood-Baking-Rugelach-and-Mandel-Bread-EVENT-2026.png
CATEGORIES:Highlights
END:VEVENT
BEGIN:VTIMEZONE
TZID:America/New_York
X-LIC-LOCATION:America/New_York
BEGIN:DAYLIGHT
DTSTART:20260308T030000
TZOFFSETFROM:-0500
TZOFFSETTO:-0400
TZNAME:EDT
END:DAYLIGHT
END:VTIMEZONE
END:VCALENDAR