BEGIN:VCALENDAR
VERSION:2.0
PRODID:-//wp-events-plugin.com//7.2.3.1//EN
TZID:America/New_York
X-WR-TIMEZONE:America/New_York
BEGIN:VEVENT
UID:204@tinr.org
DTSTART;TZID=America/New_York:20260516T190000
DTEND;TZID=America/New_York:20260516T210000
DTSTAMP:20260410T205311Z
URL:https://www.tinr.org/events/jewpardy/
SUMMARY:Jewpardy
DESCRIPTION:Jewish trivia + Competition = JEWPARDY!\nSATURDAY\, MAY 16TH\, 
 7-9 pm\n\nJewpardy is based on the popular game show Jeopardy. ANYONE can 
 play\, and EVERYONE is invited! \n\nLearn fun facts about Jewish Life\, hi
 story\, and other trivia with co-hosts Gary Frey and Allen Fishbein.\n\nOP
 EN BAR\, Snacks &amp\; DESSERT!\nServing beer\, wine\, soda\, and water.\
 nPrizes will be awarded! Come and join\, and sign up a friend!\n\nEVERYONE
  IS WELCOME!\n\nPay $25 in advance pp\, or $36 per couple\nOr pay $35 at t
 he door on the evening of the event!\nClick here to RSVP for the NEW May d
 ate!\n\nQuestions? Contact Allen Fishbein
ATTACH;FMTTYPE=image/jpeg:https://www.tinr.org/wp-content/uploads/2023/01/
 Brotherhood-Jewpardy-Saturday-February-11-2023-EVENT.jpg
CATEGORIES:Highlights
END:VEVENT
BEGIN:VTIMEZONE
TZID:America/New_York
X-LIC-LOCATION:America/New_York
BEGIN:DAYLIGHT
DTSTART:20260308T030000
TZOFFSETFROM:-0500
TZOFFSETTO:-0400
TZNAME:EDT
END:DAYLIGHT
END:VTIMEZONE
END:VCALENDAR