BEGIN:VCALENDAR
VERSION:2.0
PRODID:-//wp-events-plugin.com//7.2.3.1//EN
TZID:America/New_York
X-WR-TIMEZONE:America/New_York
BEGIN:VEVENT
UID:230@tinr.org
DTSTART;TZID=America/New_York:20230910T110000
DTEND;TZID=America/New_York:20230910T120000
DTSTAMP:20230829T174051Z
URL:https://www.tinr.org/events/jewish-veg/
SUMMARY:Social Action Event: Plant Based Options for Our Holiday Meals!
DESCRIPTION:The Social Action Committee of Temple Israel of New Rochelle We
 lcomes Jewish Veg!\n\nCome and learn how to build an eco-kosher world that
  uplifts the Jewish values of health\, compassion\, sustainability\, and s
 ocial justice. Let us begin the new year with new and exciting plant base
 d options for our holiday meals!  Recipes will be provided.\n\nSunday\, S
 eptember 10th\, 11:00 am\nin person at Temple Israel\n\nA FREE lunch follo
 wing the educational program\, sponsored by the Social Action Committee.\n
 Questions\, and RSVP to Ilissa Warhit at iwarhit@gmail.com\n\n\n\nConsider
  staying after lunch\, sponsored by the SAC\, for T'Shuva Action Program F
 ilm Screening and Discussion: "The Interview."\nClick here for more inform
 ation about this film screening which will begin at 1 pm.
CATEGORIES:Highlights
END:VEVENT
BEGIN:VTIMEZONE
TZID:America/New_York
X-LIC-LOCATION:America/New_York
BEGIN:DAYLIGHT
DTSTART:20230312T030000
TZOFFSETFROM:-0500
TZOFFSETTO:-0400
TZNAME:EDT
END:DAYLIGHT
END:VTIMEZONE
END:VCALENDAR