BEGIN:VCALENDAR
VERSION:2.0
PRODID:-//wp-events-plugin.com//7.2.3.1//EN
TZID:America/New_York
X-WR-TIMEZONE:America/New_York
BEGIN:VEVENT
UID:343@tinr.org
DTSTART;TZID=America/New_York:20260531T150000
DTEND;TZID=America/New_York:20260531T170000
DTSTAMP:20260202T152709Z
URL:https://www.tinr.org/events/giant-broadway/
SUMMARY:GIANT Broadway Show Outing
DESCRIPTION:REGISTRATION IS NOW CLOSED.\nTheater Outing: See Giant with S
 isterhood!\nDon’t miss your chance to see John Lithgow on Broadway this 
 spring! We’re heading to the Music Box Theater on Sunday\, May 31st at
  3:00 PM to see Giant.\nThis acclaimed play dives into the complex legac
 y of Roald Dahl\, specifically focusing on his 1983 antisemitic article an
 d the resulting crisis. It’s a timely exploration of art and Jewish iden
 tity that is sure to spark meaningful discussion.\nTickets are $89 per per
 son\, with only 10 spots available.\nEVERYONE is invited\, but the deadlin
 e is Sunday\, February 8th!\n\nQuestions? Contact Heidi Siesfeld\, co Sist
 erhood President
ATTACH;FMTTYPE=image/jpeg:https://www.tinr.org/wp-content/uploads/2026/01/
 GIANT-Broadway-Show-Sisterhood-2026-EVENT.webp
CATEGORIES:Highlights
END:VEVENT
BEGIN:VTIMEZONE
TZID:America/New_York
X-LIC-LOCATION:America/New_York
BEGIN:DAYLIGHT
DTSTART:20260308T030000
TZOFFSETFROM:-0500
TZOFFSETTO:-0400
TZNAME:EDT
END:DAYLIGHT
END:VTIMEZONE
END:VCALENDAR